BEGIN:VCALENDAR
VERSION:2.0
PRODID:-//FEDERACIÓN CÁNTABRA DE BÉISBOL Y SÓFBOL - ECPv6.0.11//NONSGML v1.0//EN
CALSCALE:GREGORIAN
METHOD:PUBLISH
X-WR-CALNAME:FEDERACIÓN CÁNTABRA DE BÉISBOL Y SÓFBOL
X-ORIGINAL-URL:https://www.fcbs.es
X-WR-CALDESC:Eventos para FEDERACIÓN CÁNTABRA DE BÉISBOL Y SÓFBOL
REFRESH-INTERVAL;VALUE=DURATION:PT1H
X-Robots-Tag:noindex
X-PUBLISHED-TTL:PT1H
BEGIN:VTIMEZONE
TZID:Europe/Madrid
BEGIN:DAYLIGHT
TZOFFSETFROM:+0100
TZOFFSETTO:+0200
TZNAME:CEST
DTSTART:20220327T010000
END:DAYLIGHT
BEGIN:STANDARD
TZOFFSETFROM:+0200
TZOFFSETTO:+0100
TZNAME:CET
DTSTART:20221030T010000
END:STANDARD
END:VTIMEZONE
BEGIN:VEVENT
DTSTART;TZID=Europe/Madrid:20220913T110000
DTEND;TZID=Europe/Madrid:20220913T160000
DTSTAMP:20260424T115758
CREATED:20220924T120232Z
LAST-MODIFIED:20220924T120232Z
UID:64456-1663066800-1663084800@www.fcbs.es
SUMMARY:Taller IES Villajunco\, Santander\, septiembre 2022
DESCRIPTION:
URL:https://www.fcbs.es/evento/taller-ies-villajunco-santander-septiembre-2022/
CATEGORIES:Taller
ORGANIZER;CN="Federaci%C3%B3n%20C%C3%A1ntabra%20de%20B%C3%A9isbol%20y%20S%C3%B3fbol":MAILTO:fcbeisbolysofbol@gmail.com
END:VEVENT
END:VCALENDAR