BEGIN:VCALENDAR
VERSION:2.0
PRODID:-//FEDERACIÓN CÁNTABRA DE BÉISBOL Y SÓFBOL - ECPv6.0.11//NONSGML v1.0//EN
CALSCALE:GREGORIAN
METHOD:PUBLISH
X-ORIGINAL-URL:https://www.fcbs.es
X-WR-CALDESC:Eventos para FEDERACIÓN CÁNTABRA DE BÉISBOL Y SÓFBOL
REFRESH-INTERVAL;VALUE=DURATION:PT1H
X-Robots-Tag:noindex
X-PUBLISHED-TTL:PT1H
BEGIN:VTIMEZONE
TZID:Europe/Madrid
BEGIN:DAYLIGHT
TZOFFSETFROM:+0100
TZOFFSETTO:+0200
TZNAME:CEST
DTSTART:20220327T010000
END:DAYLIGHT
BEGIN:STANDARD
TZOFFSETFROM:+0200
TZOFFSETTO:+0100
TZNAME:CET
DTSTART:20221030T010000
END:STANDARD
END:VTIMEZONE
BEGIN:VEVENT
DTSTART;TZID=Europe/Madrid:20220923T200000
DTEND;TZID=Europe/Madrid:20220923T220000
DTSTAMP:20260426T062443
CREATED:20220911T175508Z
LAST-MODIFIED:20220911T175910Z
UID:60150-1663963200-1663970400@www.fcbs.es
SUMMARY:Béisbol 5 en La Porticada
DESCRIPTION:La Federación Cántabra de Béisbol y Sófbol organizará el próximo 23 de septiembre una Jornada de Promoción del Béisbol 5 en la plaza Porticada\, de Santander\, dirigida a alumnos de Primaria en horario de 18:00 a 20:00 horas. El acceso es libre y no es necesario inscripción previa. \nLos principales destinatarios de la jornada de promoción son los niños y niñas de Primaria de los colegios de Santander y alrededores\, pero el acceso será libre y serán bienvenidos todos aquellos que quieran probar y disfrutar el Béisbol 5. \nPara la Jornada de Promoción\, se instalará en la plaza Porticada un campo de béisbol 5 cerrado con un vallado por los dos lados del cuadrado de juego correspondientes al outfield y se animará a probar el deporte a todos los que se acerquen a verlo.
URL:https://www.fcbs.es/evento/beisbol-5-en-la-porticada/
LOCATION:Plaza de Pedro Velarde (Plaza Porticada)\, Plaza de Pedro Velarde\, Santander\, Cantabria\, 39003\, España
CATEGORIES:Promoción
ATTACH;FMTTYPE=image/png:https://www.fcbs.es/wp-content/uploads/2022/09/Poster-Beisbol-5-en-La-Porticada-v10-VistaCreate.png
END:VEVENT
END:VCALENDAR